BEGIN:VCALENDAR
VERSION:2.0
PRODID:-//Columbia Premier Soccer Club - ECPv6.15.17.1//NONSGML v1.0//EN
CALSCALE:GREGORIAN
METHOD:PUBLISH
X-ORIGINAL-URL:https://www.columbiapremier.com
X-WR-CALDESC:Events for Columbia Premier Soccer Club
REFRESH-INTERVAL;VALUE=DURATION:PT1H
X-Robots-Tag:noindex
X-PUBLISHED-TTL:PT1H
BEGIN:VTIMEZONE
TZID:America/Los_Angeles
BEGIN:DAYLIGHT
TZOFFSETFROM:-0800
TZOFFSETTO:-0700
TZNAME:PDT
DTSTART:20240310T100000
END:DAYLIGHT
BEGIN:STANDARD
TZOFFSETFROM:-0700
TZOFFSETTO:-0800
TZNAME:PST
DTSTART:20241103T090000
END:STANDARD
BEGIN:DAYLIGHT
TZOFFSETFROM:-0800
TZOFFSETTO:-0700
TZNAME:PDT
DTSTART:20250309T100000
END:DAYLIGHT
BEGIN:STANDARD
TZOFFSETFROM:-0700
TZOFFSETTO:-0800
TZNAME:PST
DTSTART:20251102T090000
END:STANDARD
BEGIN:DAYLIGHT
TZOFFSETFROM:-0800
TZOFFSETTO:-0700
TZNAME:PDT
DTSTART:20260308T100000
END:DAYLIGHT
BEGIN:STANDARD
TZOFFSETFROM:-0700
TZOFFSETTO:-0800
TZNAME:PST
DTSTART:20261101T090000
END:STANDARD
END:VTIMEZONE
BEGIN:VEVENT
DTSTART;VALUE=DATE:20250822
DTEND;VALUE=DATE:20250825
DTSTAMP:20260424T025242
CREATED:20250403T205833Z
LAST-MODIFIED:20250403T205833Z
UID:4620-1755820800-1756079999@www.columbiapremier.com
SUMMARY:Summer Slam
DESCRIPTION:Summer Slam\nPresented by Victorico’s Mexican Food\n\n\n\n\n  \n\n\n\n\n\n\n\n\n\nThe Summer Slam is the perfect way to end your summer season before Labor day weekend. We bring together teams from all over the northwest to get one last weekend in before fall leagues begin. Come join us for the fun. \n\nFor more information and to register\, please go to https://www.nwsoccertournaments.com/summer-slam/
URL:https://www.columbiapremier.com/event/summer-slam/
END:VEVENT
END:VCALENDAR