BEGIN:VCALENDAR
VERSION:2.0
PRODID:-//Columbia Premier Soccer Club - ECPv6.15.17.1//NONSGML v1.0//EN
CALSCALE:GREGORIAN
METHOD:PUBLISH
X-ORIGINAL-URL:https://www.columbiapremier.com
X-WR-CALDESC:Events for Columbia Premier Soccer Club
REFRESH-INTERVAL;VALUE=DURATION:PT1H
X-Robots-Tag:noindex
X-PUBLISHED-TTL:PT1H
BEGIN:VTIMEZONE
TZID:America/Los_Angeles
BEGIN:DAYLIGHT
TZOFFSETFROM:-0800
TZOFFSETTO:-0700
TZNAME:PDT
DTSTART:20220313T100000
END:DAYLIGHT
BEGIN:STANDARD
TZOFFSETFROM:-0700
TZOFFSETTO:-0800
TZNAME:PST
DTSTART:20221106T090000
END:STANDARD
BEGIN:DAYLIGHT
TZOFFSETFROM:-0800
TZOFFSETTO:-0700
TZNAME:PDT
DTSTART:20230312T100000
END:DAYLIGHT
BEGIN:STANDARD
TZOFFSETFROM:-0700
TZOFFSETTO:-0800
TZNAME:PST
DTSTART:20231105T090000
END:STANDARD
BEGIN:DAYLIGHT
TZOFFSETFROM:-0800
TZOFFSETTO:-0700
TZNAME:PDT
DTSTART:20240310T100000
END:DAYLIGHT
BEGIN:STANDARD
TZOFFSETFROM:-0700
TZOFFSETTO:-0800
TZNAME:PST
DTSTART:20241103T090000
END:STANDARD
BEGIN:DAYLIGHT
TZOFFSETFROM:-0800
TZOFFSETTO:-0700
TZNAME:PDT
DTSTART:20250309T100000
END:DAYLIGHT
BEGIN:STANDARD
TZOFFSETFROM:-0700
TZOFFSETTO:-0800
TZNAME:PST
DTSTART:20251102T090000
END:STANDARD
BEGIN:DAYLIGHT
TZOFFSETFROM:-0800
TZOFFSETTO:-0700
TZNAME:PDT
DTSTART:20260308T100000
END:DAYLIGHT
BEGIN:STANDARD
TZOFFSETFROM:-0700
TZOFFSETTO:-0800
TZNAME:PST
DTSTART:20261101T090000
END:STANDARD
BEGIN:DAYLIGHT
TZOFFSETFROM:-0800
TZOFFSETTO:-0700
TZNAME:PDT
DTSTART:20270314T100000
END:DAYLIGHT
BEGIN:STANDARD
TZOFFSETFROM:-0700
TZOFFSETTO:-0800
TZNAME:PST
DTSTART:20271107T090000
END:STANDARD
END:VTIMEZONE
BEGIN:VEVENT
DTSTART;VALUE=DATE:20260407
DTEND;VALUE=DATE:20260410
DTSTAMP:20260423T124141
CREATED:20250201T003002Z
LAST-MODIFIED:20260404T011757Z
UID:4569-1775520000-1775779199@www.columbiapremier.com
SUMMARY:Goalkeeper Spring Break Camp
DESCRIPTION:
URL:https://www.columbiapremier.com/event/goalkeeper-spring-break-camp-2/
LOCATION:Harmony Sports Complex\, 1500 NE 192nd Ave\, Vancouver\, 98684\, United States
CATEGORIES:Camps
ATTACH;FMTTYPE=image/jpeg:https://www.columbiapremier.com/wp-content/uploads/2025/01/Train-Like-a-Pro-GK-Camp.jpg
END:VEVENT
BEGIN:VEVENT
DTSTART;VALUE=DATE:20260407
DTEND;VALUE=DATE:20260410
DTSTAMP:20260423T124141
CREATED:20211231T225106Z
LAST-MODIFIED:20260404T011044Z
UID:2604-1775520000-1775779199@www.columbiapremier.com
SUMMARY:Harmony Sports Complex Spring Break Camp
DESCRIPTION:
URL:https://www.columbiapremier.com/event/spring-break-camp/
LOCATION:Harmony Sports Complex\, 1500 NE 192nd Ave\, Vancouver\, 98684\, United States
CATEGORIES:Camps
ATTACH;FMTTYPE=image/png:https://www.columbiapremier.com/wp-content/uploads/2021/12/HSC-Spring-Break-Camp-Updated.png
END:VEVENT
BEGIN:VEVENT
DTSTART;VALUE=DATE:20260407
DTEND;VALUE=DATE:20260410
DTSTAMP:20260423T124141
CREATED:20211125T020139Z
LAST-MODIFIED:20260318T074705Z
UID:2572-1775520000-1775779199@www.columbiapremier.com
SUMMARY:HB Fuller Spring Break Camp
DESCRIPTION:2025 HB Fuller Spring Break Camp\n\nWhen: April 1-3\, 2025\nTime:10am-12pm\nWho: Players born 2020 through 2012\nWhere: HB Fuller Park\nCost: $60\, includes camp shirt\n\nQuestions regarding the camp: grassroots@columbiapremier.com\nQuestions regarding registration: michelle.beard@columbiapremier.com
URL:https://www.columbiapremier.com/event/hbfullerspringbreak/
LOCATION:HB Fuller Complex\, NW 139th St at NW 2nd Ave\, Vancouver\, WA\, 98685\, United States
CATEGORIES:Camps
ATTACH;FMTTYPE=image/png:https://www.columbiapremier.com/wp-content/uploads/2025/01/HB-Fuller-Spring-Break-Camp-2.png
END:VEVENT
BEGIN:VEVENT
DTSTART;TZID=America/Los_Angeles:20260216T130000
DTEND;TZID=America/Los_Angeles:20260216T150000
DTSTAMP:20260423T124141
CREATED:20210305T050442Z
LAST-MODIFIED:20251210T215024Z
UID:1926-1771246800-1771254000@www.columbiapremier.com
SUMMARY:Presidents Day Camp
DESCRIPTION:
URL:https://www.columbiapremier.com/event/presidents-day-camp/
LOCATION:Harmony Sports Complex\, 1500 NE 192nd Ave\, Vancouver\, 98684\, United States
CATEGORIES:Camps
ATTACH;FMTTYPE=image/png:https://www.columbiapremier.com/wp-content/uploads/2021/12/2026-presidents-day-camp-v2.png
END:VEVENT
BEGIN:VEVENT
DTSTART;TZID=America/Los_Angeles:20260119T130000
DTEND;TZID=America/Los_Angeles:20260119T150000
DTSTAMP:20260423T124141
CREATED:20221210T041110Z
LAST-MODIFIED:20251210T215108Z
UID:3501-1768827600-1768834800@www.columbiapremier.com
SUMMARY:Martin Luther King Day Camp
DESCRIPTION:
URL:https://www.columbiapremier.com/event/martin-luther-king-day-camp/
LOCATION:Harmony Sports Complex\, 1500 NE 192nd Ave\, Vancouver\, 98684\, United States
CATEGORIES:Camps
ATTACH;FMTTYPE=image/png:https://www.columbiapremier.com/wp-content/uploads/2021/12/2026-MLK-Day-Camp-v2.png
END:VEVENT
BEGIN:VEVENT
DTSTART;VALUE=DATE:20250812
DTEND;VALUE=DATE:20250815
DTSTAMP:20260423T124141
CREATED:20220304T220318Z
LAST-MODIFIED:20250429T002656Z
UID:2772-1754956800-1755215999@www.columbiapremier.com
SUMMARY:Harmony Sports Complex Summer Camp August
DESCRIPTION:
URL:https://www.columbiapremier.com/event/harmony-sports-complex-summer-camp-august/
LOCATION:Harmony Sports Complex\, 1500 NE 192nd Ave\, Vancouver\, 98684\, United States
CATEGORIES:Camps
END:VEVENT
BEGIN:VEVENT
DTSTART;VALUE=DATE:20250805
DTEND;VALUE=DATE:20250808
DTSTAMP:20260423T124141
CREATED:20240530T001343Z
LAST-MODIFIED:20250202T224355Z
UID:4346-1754352000-1754611199@www.columbiapremier.com
SUMMARY:Train Like a Pro Goalkeeper Camp HSC
DESCRIPTION:
URL:https://www.columbiapremier.com/event/train-like-a-pro-goalkeeper-camp-hsc/
LOCATION:Harmony Sports Complex\, 1500 NE 192nd Ave\, Vancouver\, 98684\, United States
CATEGORIES:Camps
END:VEVENT
BEGIN:VEVENT
DTSTART;VALUE=DATE:20250804
DTEND;VALUE=DATE:20250809
DTSTAMP:20260423T124141
CREATED:20240320T210624Z
LAST-MODIFIED:20250212T232300Z
UID:4180-1754265600-1754697599@www.columbiapremier.com
SUMMARY:Portland Timbers Camp
DESCRIPTION:
URL:https://www.columbiapremier.com/event/portland-timbers-camp-2/
LOCATION:Harmony Sports Complex\, 1500 NE 192nd Ave\, Vancouver\, 98684\, United States
CATEGORIES:Camps
END:VEVENT
BEGIN:VEVENT
DTSTART;TZID=America/Los_Angeles:20250722T100000
DTEND;TZID=America/Los_Angeles:20250724T130000
DTSTAMP:20260423T124141
CREATED:20240515T052922Z
LAST-MODIFIED:20250501T192149Z
UID:4322-1753178400-1753362000@www.columbiapremier.com
SUMMARY:Summer Camp II
DESCRIPTION:
URL:https://www.columbiapremier.com/event/mid-summer-camp/
LOCATION:HB Fuller Complex\, NW 139th St at NW 2nd Ave\, Vancouver\, WA\, 98685\, United States
CATEGORIES:Camps
END:VEVENT
BEGIN:VEVENT
DTSTART;VALUE=DATE:20250715
DTEND;VALUE=DATE:20250718
DTSTAMP:20260423T124141
CREATED:20240530T001251Z
LAST-MODIFIED:20250202T224426Z
UID:4342-1752537600-1752796799@www.columbiapremier.com
SUMMARY:Train Like a Pro Goalkeeper Camp - HB Fuller
DESCRIPTION:
URL:https://www.columbiapremier.com/event/train-like-a-pro-goalkeeper-camp-hb-fuller/
LOCATION:HB Fuller Complex\, NW 139th St at NW 2nd Ave\, Vancouver\, WA\, 98685\, United States
CATEGORIES:Camps
END:VEVENT
BEGIN:VEVENT
DTSTART;TZID=America/Los_Angeles:20250701T100000
DTEND;TZID=America/Los_Angeles:20250703T130000
DTSTAMP:20260423T124141
CREATED:20240529T003404Z
LAST-MODIFIED:20250217T232406Z
UID:4336-1751364000-1751547600@www.columbiapremier.com
SUMMARY:Summer Camp I
DESCRIPTION:
URL:https://www.columbiapremier.com/event/june-summer-camp/
LOCATION:Harmony Sports Complex\, 1500 NE 192nd Ave\, Vancouver\, 98684\, United States
CATEGORIES:Camps
END:VEVENT
BEGIN:VEVENT
DTSTART;VALUE=DATE:20250616
DTEND;VALUE=DATE:20250621
DTSTAMP:20260423T124141
CREATED:20240320T210526Z
LAST-MODIFIED:20250212T232416Z
UID:4177-1750032000-1750463999@www.columbiapremier.com
SUMMARY:Portland Timbers Camp
DESCRIPTION:
URL:https://www.columbiapremier.com/event/portland-timbers-camp/
LOCATION:HB Fuller Complex\, NW 139th St at NW 2nd Ave\, Vancouver\, WA\, 98685\, United States
CATEGORIES:Camps
END:VEVENT
BEGIN:VEVENT
DTSTART;TZID=America/Los_Angeles:20241111T130000
DTEND;TZID=America/Los_Angeles:20241111T150000
DTSTAMP:20260423T124141
CREATED:20220808T190806Z
LAST-MODIFIED:20240916T221933Z
UID:3337-1731330000-1731337200@www.columbiapremier.com
SUMMARY:Veterans Day Camp
DESCRIPTION:
URL:https://www.columbiapremier.com/event/veterans-day-camp/
LOCATION:Harmony Sports Complex\, 1500 NE 192nd Ave\, Vancouver\, 98684\, United States
CATEGORIES:Camps
END:VEVENT
BEGIN:VEVENT
DTSTART;VALUE=DATE:20241004
DTEND;VALUE=DATE:20241026
DTSTAMP:20260423T124141
CREATED:20230810T175623Z
LAST-MODIFIED:20240909T234351Z
UID:4000-1728000000-1729900799@www.columbiapremier.com
SUMMARY:Speed Camp
DESCRIPTION:
URL:https://www.columbiapremier.com/event/speed-camp/
LOCATION:Harmony Sports Complex\, 1500 NE 192nd Ave\, Vancouver\, 98684\, United States
CATEGORIES:Camps
END:VEVENT
BEGIN:VEVENT
DTSTART;VALUE=DATE:20240820
DTEND;VALUE=DATE:20240823
DTSTAMP:20260423T124141
CREATED:20240529T003607Z
LAST-MODIFIED:20240531T205005Z
UID:4338-1724112000-1724371199@www.columbiapremier.com
SUMMARY:End of Summer Camp
DESCRIPTION:
URL:https://www.columbiapremier.com/event/end-of-summer-camp/
LOCATION:Harmony Sports Complex\, 1500 NE 192nd Ave\, Vancouver\, 98684\, United States
CATEGORIES:Camps
END:VEVENT
BEGIN:VEVENT
DTSTART;VALUE=DATE:20240812
DTEND;VALUE=DATE:20240816
DTSTAMP:20260423T124141
CREATED:20240410T223909Z
LAST-MODIFIED:20240529T004425Z
UID:4234-1723420800-1723766399@www.columbiapremier.com
SUMMARY:SCN Academy Summer Camp
DESCRIPTION:
URL:https://www.columbiapremier.com/event/scn-academy-summer-camp/
LOCATION:Harmony Sports Complex\, 1500 NE 192nd Ave\, Vancouver\, 98684\, United States
CATEGORIES:Camps
END:VEVENT
BEGIN:VEVENT
DTSTART;VALUE=DATE:20240708
DTEND;VALUE=DATE:20240713
DTSTAMP:20260423T124141
CREATED:20240320T204412Z
LAST-MODIFIED:20240320T204803Z
UID:4174-1720396800-1720828799@www.columbiapremier.com
SUMMARY:Paris Saint-German Academy Camp
DESCRIPTION:
URL:https://www.columbiapremier.com/event/paris-saint-german-academy-camp/
LOCATION:Harmony Sports Complex\, 1500 NE 192nd Ave\, Vancouver\, 98684\, United States
CATEGORIES:Camps
END:VEVENT
BEGIN:VEVENT
DTSTART;VALUE=DATE:20240701
DTEND;VALUE=DATE:20240706
DTSTAMP:20260423T124141
CREATED:20210327T212401Z
LAST-MODIFIED:20240307T222551Z
UID:2082-1719792000-1720223999@www.columbiapremier.com
SUMMARY:Real Madrid Soccer Camp
DESCRIPTION:
URL:https://www.columbiapremier.com/event/real-madrid-soccer-camp/
LOCATION:Harmony Sports Complex\, 1500 NE 192nd Ave\, Vancouver\, 98684\, United States
CATEGORIES:Camps
END:VEVENT
BEGIN:VEVENT
DTSTART;TZID=America/Los_Angeles:20240527T090000
DTEND;TZID=America/Los_Angeles:20240527T110000
DTSTAMP:20260423T124141
CREATED:20220113T022343Z
LAST-MODIFIED:20240515T213804Z
UID:2646-1716800400-1716807600@www.columbiapremier.com
SUMMARY:Memorial Day Camp
DESCRIPTION:
URL:https://www.columbiapremier.com/event/memorial-day-camp-2/
LOCATION:Harmony Sports Complex\, 1500 NE 192nd Ave\, Vancouver\, 98684\, United States
CATEGORIES:Camps
END:VEVENT
BEGIN:VEVENT
DTSTART;TZID=America/Los_Angeles:20240511T160000
DTEND;TZID=America/Los_Angeles:20240511T173000
DTSTAMP:20260423T124141
CREATED:20240313T021457Z
LAST-MODIFIED:20240315T202207Z
UID:4167-1715443200-1715448600@www.columbiapremier.com
SUMMARY:Westside Junior Academy Clinic
DESCRIPTION:
URL:https://www.columbiapremier.com/event/westside-junior-academy-clinic/
LOCATION:HB Fuller Complex\, NW 139th St at NW 2nd Ave\, Vancouver\, WA\, 98685\, United States
CATEGORIES:Camps
END:VEVENT
BEGIN:VEVENT
DTSTART;VALUE=DATE:20240401
DTEND;VALUE=DATE:20240404
DTSTAMP:20260423T124141
CREATED:20240221T004925Z
LAST-MODIFIED:20240315T202325Z
UID:4136-1711929600-1712188799@www.columbiapremier.com
SUMMARY:Goalkeeper Spring Break Camp
DESCRIPTION:
URL:https://www.columbiapremier.com/event/goalkeeper-spring-break-camp/
LOCATION:Harmony Sports Complex\, 1500 NE 192nd Ave\, Vancouver\, 98684\, United States
CATEGORIES:Camps
END:VEVENT
BEGIN:VEVENT
DTSTART;TZID=America/Los_Angeles:20231006T170000
DTEND;TZID=America/Los_Angeles:20231027T190000
DTSTAMP:20260423T124141
CREATED:20230915T015545Z
LAST-MODIFIED:20230915T015609Z
UID:4041-1696611600-1698433200@www.columbiapremier.com
SUMMARY:Foundations of Fitness
DESCRIPTION:Start: October 6th\nEnd: Oct 27th\nOrganizer: FYZICAL – Camas\nVenue: Harmony Sports Complex\nWebsite: https://playmetrics.com/signup?clubToken=TG9naW4tQ2x1Yi52MS01MzYtMTY5OTM4Nzg5OXxTZzEvZFJtM2xnM2N6L2FpNkVCckt5a2FlWUxOdnlMYUlNVGxHRzRyWG5zPQ==&program_id=19553
URL:https://www.columbiapremier.com/event/foundations-of-fitness/
LOCATION:Harmony Sports Complex\, 1500 NE 192nd Ave\, Vancouver\, 98684\, United States
CATEGORIES:Camps
ATTACH;FMTTYPE=image/jpeg:https://www.columbiapremier.com/wp-content/uploads/2023/09/Foundations-of-Fitness.jpg
END:VEVENT
BEGIN:VEVENT
DTSTART;TZID=America/Los_Angeles:20230928T173000
DTEND;TZID=America/Los_Angeles:20230928T190000
DTSTAMP:20260423T124141
CREATED:20230907T175203Z
LAST-MODIFIED:20230907T184820Z
UID:4027-1695922200-1695927600@www.columbiapremier.com
SUMMARY:SDP Academy Evaluation
DESCRIPTION:Click to Register
URL:https://www.columbiapremier.com/event/sdp-academy-evaluation/
LOCATION:Clark Practice Field (Fort Vancouver Way/McGloughlin Blvd)\, Clark College Athletic Annex Practice Soccer Fields\, Vancouver\, WA\, United States
CATEGORIES:Camps
END:VEVENT
BEGIN:VEVENT
DTSTART;TZID=America/Los_Angeles:20230904T120000
DTEND;TZID=America/Los_Angeles:20230904T140000
DTSTAMP:20260423T124141
CREATED:20220808T190447Z
LAST-MODIFIED:20230816T021006Z
UID:3335-1693828800-1693836000@www.columbiapremier.com
SUMMARY:Labor Day Camp
DESCRIPTION:
URL:https://www.columbiapremier.com/event/labor-day-camp/
LOCATION:Harmony Sports Complex\, 1500 NE 192nd Ave\, Vancouver\, 98684\, United States
CATEGORIES:Camps
END:VEVENT
BEGIN:VEVENT
DTSTART;VALUE=DATE:20230822
DTEND;VALUE=DATE:20230825
DTSTAMP:20260423T124141
CREATED:20230526T193203Z
LAST-MODIFIED:20230526T194417Z
UID:3952-1692662400-1692921599@www.columbiapremier.com
SUMMARY:End of Summer Camp at HB Fuller
DESCRIPTION:
URL:https://www.columbiapremier.com/event/end-of-summer-camp-at-hb-fuller/
LOCATION:HB Fuller Complex\, NW 139th St at NW 2nd Ave\, Vancouver\, WA\, 98685\, United States
CATEGORIES:Camps
END:VEVENT
BEGIN:VEVENT
DTSTART;VALUE=DATE:20230711
DTEND;VALUE=DATE:20230714
DTSTAMP:20260423T124141
CREATED:20220119T000621Z
LAST-MODIFIED:20230526T194653Z
UID:2680-1689033600-1689292799@www.columbiapremier.com
SUMMARY:Goalkeeper Summer Camp
DESCRIPTION:
URL:https://www.columbiapremier.com/event/goalkeeper-summer-camp-2/
LOCATION:HB Fuller Complex\, NW 139th St at NW 2nd Ave\, Vancouver\, WA\, 98685\, United States
CATEGORIES:Camps
END:VEVENT
BEGIN:VEVENT
DTSTART;VALUE=DATE:20230629
DTEND;VALUE=DATE:20230819
DTSTAMP:20260423T124141
CREATED:20210517T204852Z
LAST-MODIFIED:20230523T010039Z
UID:2239-1687996800-1692403199@www.columbiapremier.com
SUMMARY:Technical Development
DESCRIPTION:
URL:https://www.columbiapremier.com/event/technical-dev/
LOCATION:Harmony Sports Complex\, 1500 NE 192nd Ave\, Vancouver\, 98684\, United States
CATEGORIES:Camps
END:VEVENT
BEGIN:VEVENT
DTSTART;VALUE=DATE:20230628
DTEND;VALUE=DATE:20230701
DTSTAMP:20260423T124141
CREATED:20210610T044230Z
LAST-MODIFIED:20230503T004345Z
UID:2297-1687910400-1688169599@www.columbiapremier.com
SUMMARY:Vancouver Victory All Girls Camp
DESCRIPTION:Click HERE to register.
URL:https://www.columbiapremier.com/event/vancouver-victory-all-girls-camp/
LOCATION:Harmony Sports Complex\, 1500 NE 192nd Ave\, Vancouver\, 98684\, United States
CATEGORIES:Camps
END:VEVENT
BEGIN:VEVENT
DTSTART;VALUE=DATE:20230620
DTEND;VALUE=DATE:20230623
DTSTAMP:20260423T124141
CREATED:20200801T193840Z
LAST-MODIFIED:20230523T012836Z
UID:1621-1687219200-1687478399@www.columbiapremier.com
SUMMARY:June Summer Camp
DESCRIPTION:
URL:https://www.columbiapremier.com/event/summer-camp-june/
LOCATION:Harmony Sports Complex\, 1500 NE 192nd Ave\, Vancouver\, 98684\, United States
CATEGORIES:Camps
END:VEVENT
BEGIN:VEVENT
DTSTART;VALUE=DATE:20230619
DTEND;VALUE=DATE:20230624
DTSTAMP:20260423T124141
CREATED:20230303T230256Z
LAST-MODIFIED:20230303T230256Z
UID:3601-1687132800-1687564799@www.columbiapremier.com
SUMMARY:Paris Saint-Germain Camp
DESCRIPTION:
URL:https://www.columbiapremier.com/event/paris-saint-germain-camp/
LOCATION:Harmony Sports Complex\, 1500 NE 192nd Ave\, Vancouver\, 98684\, United States
CATEGORIES:Camps
END:VEVENT
END:VCALENDAR