BEGIN:VCALENDAR
VERSION:2.0
PRODID:-//Columbia Premier Soccer Club - ECPv6.15.17.1//NONSGML v1.0//EN
CALSCALE:GREGORIAN
METHOD:PUBLISH
X-WR-CALNAME:Columbia Premier Soccer Club
X-ORIGINAL-URL:https://www.columbiapremier.com
X-WR-CALDESC:Events for Columbia Premier Soccer Club
REFRESH-INTERVAL;VALUE=DURATION:PT1H
X-Robots-Tag:noindex
X-PUBLISHED-TTL:PT1H
BEGIN:VTIMEZONE
TZID:America/Los_Angeles
BEGIN:DAYLIGHT
TZOFFSETFROM:-0800
TZOFFSETTO:-0700
TZNAME:PDT
DTSTART:20200308T100000
END:DAYLIGHT
BEGIN:STANDARD
TZOFFSETFROM:-0700
TZOFFSETTO:-0800
TZNAME:PST
DTSTART:20201101T090000
END:STANDARD
BEGIN:DAYLIGHT
TZOFFSETFROM:-0800
TZOFFSETTO:-0700
TZNAME:PDT
DTSTART:20210314T100000
END:DAYLIGHT
BEGIN:STANDARD
TZOFFSETFROM:-0700
TZOFFSETTO:-0800
TZNAME:PST
DTSTART:20211107T090000
END:STANDARD
BEGIN:DAYLIGHT
TZOFFSETFROM:-0800
TZOFFSETTO:-0700
TZNAME:PDT
DTSTART:20220313T100000
END:DAYLIGHT
BEGIN:STANDARD
TZOFFSETFROM:-0700
TZOFFSETTO:-0800
TZNAME:PST
DTSTART:20221106T090000
END:STANDARD
BEGIN:DAYLIGHT
TZOFFSETFROM:-0800
TZOFFSETTO:-0700
TZNAME:PDT
DTSTART:20230312T100000
END:DAYLIGHT
BEGIN:STANDARD
TZOFFSETFROM:-0700
TZOFFSETTO:-0800
TZNAME:PST
DTSTART:20231105T090000
END:STANDARD
BEGIN:DAYLIGHT
TZOFFSETFROM:-0800
TZOFFSETTO:-0700
TZNAME:PDT
DTSTART:20240310T100000
END:DAYLIGHT
BEGIN:STANDARD
TZOFFSETFROM:-0700
TZOFFSETTO:-0800
TZNAME:PST
DTSTART:20241103T090000
END:STANDARD
BEGIN:DAYLIGHT
TZOFFSETFROM:-0800
TZOFFSETTO:-0700
TZNAME:PDT
DTSTART:20250309T100000
END:DAYLIGHT
BEGIN:STANDARD
TZOFFSETFROM:-0700
TZOFFSETTO:-0800
TZNAME:PST
DTSTART:20251102T090000
END:STANDARD
END:VTIMEZONE
BEGIN:VEVENT
DTSTART;VALUE=DATE:20240401
DTEND;VALUE=DATE:20240404
DTSTAMP:20260423T160904
CREATED:20240221T004925Z
LAST-MODIFIED:20240315T202325Z
UID:4136-1711929600-1712188799@www.columbiapremier.com
SUMMARY:Goalkeeper Spring Break Camp
DESCRIPTION:
URL:https://www.columbiapremier.com/event/goalkeeper-spring-break-camp/
LOCATION:Harmony Sports Complex\, 1500 NE 192nd Ave\, Vancouver\, 98684\, United States
CATEGORIES:Camps
END:VEVENT
BEGIN:VEVENT
DTSTART;TZID=America/Los_Angeles:20231006T170000
DTEND;TZID=America/Los_Angeles:20231027T190000
DTSTAMP:20260423T160904
CREATED:20230915T015545Z
LAST-MODIFIED:20230915T015609Z
UID:4041-1696611600-1698433200@www.columbiapremier.com
SUMMARY:Foundations of Fitness
DESCRIPTION:Start: October 6th\nEnd: Oct 27th\nOrganizer: FYZICAL – Camas\nVenue: Harmony Sports Complex\nWebsite: https://playmetrics.com/signup?clubToken=TG9naW4tQ2x1Yi52MS01MzYtMTY5OTM4Nzg5OXxTZzEvZFJtM2xnM2N6L2FpNkVCckt5a2FlWUxOdnlMYUlNVGxHRzRyWG5zPQ==&program_id=19553
URL:https://www.columbiapremier.com/event/foundations-of-fitness/
LOCATION:Harmony Sports Complex\, 1500 NE 192nd Ave\, Vancouver\, 98684\, United States
CATEGORIES:Camps
ATTACH;FMTTYPE=image/jpeg:https://www.columbiapremier.com/wp-content/uploads/2023/09/Foundations-of-Fitness.jpg
END:VEVENT
BEGIN:VEVENT
DTSTART;TZID=America/Los_Angeles:20230928T173000
DTEND;TZID=America/Los_Angeles:20230928T190000
DTSTAMP:20260423T160904
CREATED:20230907T175203Z
LAST-MODIFIED:20230907T184820Z
UID:4027-1695922200-1695927600@www.columbiapremier.com
SUMMARY:SDP Academy Evaluation
DESCRIPTION:Click to Register
URL:https://www.columbiapremier.com/event/sdp-academy-evaluation/
LOCATION:Clark Practice Field (Fort Vancouver Way/McGloughlin Blvd)\, Clark College Athletic Annex Practice Soccer Fields\, Vancouver\, WA\, United States
CATEGORIES:Camps
END:VEVENT
BEGIN:VEVENT
DTSTART;TZID=America/Los_Angeles:20230904T120000
DTEND;TZID=America/Los_Angeles:20230904T140000
DTSTAMP:20260423T160904
CREATED:20220808T190447Z
LAST-MODIFIED:20230816T021006Z
UID:3335-1693828800-1693836000@www.columbiapremier.com
SUMMARY:Labor Day Camp
DESCRIPTION:
URL:https://www.columbiapremier.com/event/labor-day-camp/
LOCATION:Harmony Sports Complex\, 1500 NE 192nd Ave\, Vancouver\, 98684\, United States
CATEGORIES:Camps
END:VEVENT
BEGIN:VEVENT
DTSTART;VALUE=DATE:20230822
DTEND;VALUE=DATE:20230825
DTSTAMP:20260423T160904
CREATED:20230526T193203Z
LAST-MODIFIED:20230526T194417Z
UID:3952-1692662400-1692921599@www.columbiapremier.com
SUMMARY:End of Summer Camp at HB Fuller
DESCRIPTION:
URL:https://www.columbiapremier.com/event/end-of-summer-camp-at-hb-fuller/
LOCATION:HB Fuller Complex\, NW 139th St at NW 2nd Ave\, Vancouver\, WA\, 98685\, United States
CATEGORIES:Camps
END:VEVENT
BEGIN:VEVENT
DTSTART;VALUE=DATE:20230711
DTEND;VALUE=DATE:20230714
DTSTAMP:20260423T160904
CREATED:20220119T000621Z
LAST-MODIFIED:20230526T194653Z
UID:2680-1689033600-1689292799@www.columbiapremier.com
SUMMARY:Goalkeeper Summer Camp
DESCRIPTION:
URL:https://www.columbiapremier.com/event/goalkeeper-summer-camp-2/
LOCATION:HB Fuller Complex\, NW 139th St at NW 2nd Ave\, Vancouver\, WA\, 98685\, United States
CATEGORIES:Camps
END:VEVENT
BEGIN:VEVENT
DTSTART;VALUE=DATE:20230629
DTEND;VALUE=DATE:20230819
DTSTAMP:20260423T160904
CREATED:20210517T204852Z
LAST-MODIFIED:20230523T010039Z
UID:2239-1687996800-1692403199@www.columbiapremier.com
SUMMARY:Technical Development
DESCRIPTION:
URL:https://www.columbiapremier.com/event/technical-dev/
LOCATION:Harmony Sports Complex\, 1500 NE 192nd Ave\, Vancouver\, 98684\, United States
CATEGORIES:Camps
END:VEVENT
BEGIN:VEVENT
DTSTART;VALUE=DATE:20230628
DTEND;VALUE=DATE:20230701
DTSTAMP:20260423T160904
CREATED:20210610T044230Z
LAST-MODIFIED:20230503T004345Z
UID:2297-1687910400-1688169599@www.columbiapremier.com
SUMMARY:Vancouver Victory All Girls Camp
DESCRIPTION:Click HERE to register.
URL:https://www.columbiapremier.com/event/vancouver-victory-all-girls-camp/
LOCATION:Harmony Sports Complex\, 1500 NE 192nd Ave\, Vancouver\, 98684\, United States
CATEGORIES:Camps
END:VEVENT
BEGIN:VEVENT
DTSTART;VALUE=DATE:20230620
DTEND;VALUE=DATE:20230623
DTSTAMP:20260423T160904
CREATED:20200801T193840Z
LAST-MODIFIED:20230523T012836Z
UID:1621-1687219200-1687478399@www.columbiapremier.com
SUMMARY:June Summer Camp
DESCRIPTION:
URL:https://www.columbiapremier.com/event/summer-camp-june/
LOCATION:Harmony Sports Complex\, 1500 NE 192nd Ave\, Vancouver\, 98684\, United States
CATEGORIES:Camps
END:VEVENT
BEGIN:VEVENT
DTSTART;VALUE=DATE:20230619
DTEND;VALUE=DATE:20230624
DTSTAMP:20260423T160904
CREATED:20230303T230256Z
LAST-MODIFIED:20230303T230256Z
UID:3601-1687132800-1687564799@www.columbiapremier.com
SUMMARY:Paris Saint-Germain Camp
DESCRIPTION:
URL:https://www.columbiapremier.com/event/paris-saint-germain-camp/
LOCATION:Harmony Sports Complex\, 1500 NE 192nd Ave\, Vancouver\, 98684\, United States
CATEGORIES:Camps
END:VEVENT
BEGIN:VEVENT
DTSTART;TZID=America/Los_Angeles:20230513T163000
DTEND;TZID=America/Los_Angeles:20230513T180000
DTSTAMP:20260423T160904
CREATED:20230401T181850Z
LAST-MODIFIED:20230401T181850Z
UID:3659-1683995400-1684000800@www.columbiapremier.com
SUMMARY:Junior Academy Free Clinic
DESCRIPTION:This is a free clinic\, but registration is required.  Please click HERE to register.
URL:https://www.columbiapremier.com/event/junior-academy-free-clinic-2/
LOCATION:HB Fuller Complex\, NW 139th St at NW 2nd Ave\, Vancouver\, WA\, 98685\, United States
CATEGORIES:Camps
END:VEVENT
BEGIN:VEVENT
DTSTART;VALUE=DATE:20221113
DTEND;VALUE=DATE:20230123
DTSTAMP:20260423T160904
CREATED:20221024T215226Z
LAST-MODIFIED:20221024T215423Z
UID:3443-1668297600-1674431999@www.columbiapremier.com
SUMMARY:Jr Academy Winter Futsal
DESCRIPTION:Futsal is Sundays\, November 13th\, 20th\, December 4th\, 11th\, 18th\, January 15th\, \,22nd. \nAge groups are limited.  If your child’s age group is not available in registration\, unfortunately\, it is full. \nQuestions on the event? Please email junioracademywest@columbiapremier.com
URL:https://www.columbiapremier.com/event/jr-academy-winter-futsal/
LOCATION:Clark College Gym\, 1933 Fort Vancouver Way\, VAncouver\, WA\, United States
CATEGORIES:Camps
END:VEVENT
BEGIN:VEVENT
DTSTART;VALUE=DATE:20220802
DTEND;VALUE=DATE:20220805
DTSTAMP:20260423T160904
CREATED:20210702T002543Z
LAST-MODIFIED:20220524T214127Z
UID:2320-1659398400-1659657599@www.columbiapremier.com
SUMMARY:Clark College Soccer Camp
DESCRIPTION:Click HERE to Register
URL:https://www.columbiapremier.com/event/clark-college-camp/
LOCATION:Kim Christensen Field at Clark College
CATEGORIES:Camps
ATTACH;FMTTYPE=image/png:https://www.columbiapremier.com/wp-content/uploads/2021/07/Clark-Soccer-Camp-1.png
END:VEVENT
BEGIN:VEVENT
DTSTART;TZID=America/Los_Angeles:20220618T120000
DTEND;TZID=America/Los_Angeles:20220618T133000
DTSTAMP:20260423T160904
CREATED:20220614T013405Z
LAST-MODIFIED:20220614T013405Z
UID:3263-1655553600-1655559000@www.columbiapremier.com
SUMMARY:4th Plain Forward Soccer Clinic
DESCRIPTION:
URL:https://www.columbiapremier.com/event/4th-plain-forward-soccer-clinic/
LOCATION:Roosevelt Elementary School\, 2921 Falk Rd\, Vancouver\, WA\, 98661\, United States
CATEGORIES:Camps
ATTACH;FMTTYPE=image/png:https://www.columbiapremier.com/wp-content/uploads/2022/06/4th-Plain-Flyer-1.png
END:VEVENT
BEGIN:VEVENT
DTSTART;TZID=America/Los_Angeles:20220507T160000
DTEND;TZID=America/Los_Angeles:20220507T173000
DTSTAMP:20260423T160904
CREATED:20220118T225419Z
LAST-MODIFIED:20220118T225538Z
UID:2674-1651939200-1651944600@www.columbiapremier.com
SUMMARY:Junior Academy Free Clinic
DESCRIPTION:This is a free clinic\, but registration is required.  Please click HERE to register.
URL:https://www.columbiapremier.com/event/junior-academy-free-clinic/
LOCATION:HB Fuller Complex\, NW 139th St at NW 2nd Ave\, Vancouver\, WA\, 98685\, United States
CATEGORIES:Camps
ATTACH;FMTTYPE=image/jpeg:https://www.columbiapremier.com/wp-content/uploads/2022/01/Westside-Junior-Academy-Clinic.jpg
END:VEVENT
BEGIN:VEVENT
DTSTART;VALUE=DATE:20220405
DTEND;VALUE=DATE:20220408
DTSTAMP:20260423T160904
CREATED:20210610T044422Z
LAST-MODIFIED:20220301T011538Z
UID:2301-1649116800-1649375999@www.columbiapremier.com
SUMMARY:Spring Break Goalkeeper Camp
DESCRIPTION:Who: Goalkeepers U11-U19 (2011-2003) Boys & Girls \nWhen: April 5-7\, 2022 (Tuesday-Thursday) \nTime: 1:45PM-4:15PM (Bring a Snack) \nCheck-In: 1:30PM \nWhere: Harmony Sports Complex \nCost: $150 per Player\, includes t-shirt \n\nCurriculum\n\nDay 1 – Shot Stopping \nDay 2 – 1v1 & Breakaways \nDay 3 – Crosses & Reactions \n\nQuestions? GKDirector@WashingtonTimbers.com \n\nClick HERE to register.\n 
URL:https://www.columbiapremier.com/event/goalkeeper-spring-camp/
LOCATION:Harmony Sports Complex\, 1500 NE 192nd Ave\, Vancouver\, 98684\, United States
CATEGORIES:Camps
ATTACH;FMTTYPE=image/jpeg:https://www.columbiapremier.com/wp-content/uploads/2021/06/spring-break-GK-camp.jpg
END:VEVENT
BEGIN:VEVENT
DTSTART;VALUE=DATE:20210712
DTEND;VALUE=DATE:20210717
DTSTAMP:20260423T160904
CREATED:20210327T211047Z
LAST-MODIFIED:20210327T212026Z
UID:2076-1626048000-1626479999@www.columbiapremier.com
SUMMARY:Barca Academy Soccer Camp
DESCRIPTION:Camp is July 12-16 from 9:00 am –  3:00pm \nAges 6-16 \nFor more information and to register\, please go to https://camps.fcbarcelona.us/
URL:https://www.columbiapremier.com/event/2076/
LOCATION:Harmony Sports Complex\, 1500 NE 192nd Ave\, Vancouver\, 98684\, United States
CATEGORIES:Camps
END:VEVENT
END:VCALENDAR