BEGIN:VCALENDAR
VERSION:2.0
PRODID:-//Columbia Premier Soccer Club - ECPv6.15.17.1//NONSGML v1.0//EN
CALSCALE:GREGORIAN
METHOD:PUBLISH
X-WR-CALNAME:Columbia Premier Soccer Club
X-ORIGINAL-URL:https://www.columbiapremier.com
X-WR-CALDESC:Events for Columbia Premier Soccer Club
REFRESH-INTERVAL;VALUE=DURATION:PT1H
X-Robots-Tag:noindex
X-PUBLISHED-TTL:PT1H
BEGIN:VTIMEZONE
TZID:America/Los_Angeles
BEGIN:DAYLIGHT
TZOFFSETFROM:-0800
TZOFFSETTO:-0700
TZNAME:PDT
DTSTART:20240310T100000
END:DAYLIGHT
BEGIN:STANDARD
TZOFFSETFROM:-0700
TZOFFSETTO:-0800
TZNAME:PST
DTSTART:20241103T090000
END:STANDARD
BEGIN:DAYLIGHT
TZOFFSETFROM:-0800
TZOFFSETTO:-0700
TZNAME:PDT
DTSTART:20250309T100000
END:DAYLIGHT
BEGIN:STANDARD
TZOFFSETFROM:-0700
TZOFFSETTO:-0800
TZNAME:PST
DTSTART:20251102T090000
END:STANDARD
BEGIN:DAYLIGHT
TZOFFSETFROM:-0800
TZOFFSETTO:-0700
TZNAME:PDT
DTSTART:20260308T100000
END:DAYLIGHT
BEGIN:STANDARD
TZOFFSETFROM:-0700
TZOFFSETTO:-0800
TZNAME:PST
DTSTART:20261101T090000
END:STANDARD
END:VTIMEZONE
BEGIN:VEVENT
DTSTART;VALUE=DATE:20250301
DTEND;VALUE=DATE:20250302
DTSTAMP:20260424T090602
CREATED:20250127T230143Z
LAST-MODIFIED:20250127T230143Z
UID:4554-1740787200-1740873599@www.columbiapremier.com
SUMMARY:Become a Referee
DESCRIPTION:
URL:https://www.columbiapremier.com/event/become-a-referee-2/
LOCATION:Harmony Sports Complex\, 1500 NE 192nd Ave\, Vancouver\, 98684\, United States
ATTACH;FMTTYPE=image/jpeg:https://www.columbiapremier.com/wp-content/uploads/2025/01/Green-Soccer-Camp-Facebook-Shared-Image-Made-with-PosterMyWall-4.jpg
END:VEVENT
BEGIN:VEVENT
DTSTART;VALUE=DATE:20250315
DTEND;VALUE=DATE:20250316
DTSTAMP:20260424T090602
CREATED:20250127T230238Z
LAST-MODIFIED:20250127T230238Z
UID:4556-1741996800-1742083199@www.columbiapremier.com
SUMMARY:Become a Referee
DESCRIPTION:
URL:https://www.columbiapremier.com/event/become-a-referee-3/
LOCATION:Harmony Sports Complex\, 1500 NE 192nd Ave\, Vancouver\, 98684\, United States
ATTACH;FMTTYPE=image/jpeg:https://www.columbiapremier.com/wp-content/uploads/2025/01/Green-Soccer-Camp-Facebook-Shared-Image-Made-with-PosterMyWall-4.jpg
END:VEVENT
END:VCALENDAR